{ "currentVersion": 10.91, "serviceDescription": "
The USDA, NASS Cropland Data Layer (CDL) is a raster, geo-referenced, crop-specific land cover data layer. The 2017 CDL has a ground resolution of 30 meters. The CDL is produced using satellite imagery from the Landsat 8 OLI/TIRS sensor and the Disaster Monitoring Constellation (DMC) DEIMOS-1 and UK2 sensors collected during the current growing season.<\/span><\/p> Some CDL states used additional satellite imagery and ancillary inputs to supplement and improve the classification. These additional sources can include the United States Geological Survey (USGS) National Elevation Dataset (NED) and the imperviousness and canopy data layers from the USGS National Land Cover Database 2011 (NLCD 2011).<\/span><\/p> Agricultural training and validation data are derived from the Farm Service Agency (FSA) Common Land Unit (CLU) Program. The most current version of the NLCD is used as non-agricultural training and validation data.<\/span><\/p> Please refer to the 'Supplemental_Information' Section of this metadata file for a complete list of all imagery, ancillary data, and training/validation data used to generate this state's CDL.<\/span><\/p> The strength and emphasis of the CDL is agricultural land cover. Please note that no farmer reported data are derivable from the Cropland Data Layer. <\/span><\/p><\/div><\/div>",
"name": "LandUseCover/CroplandDataLayer",
"description": " The USDA, NASS Cropland Data Layer (CDL) is a raster, geo-referenced, crop-specific land cover data layer. The 2017 CDL has a ground resolution of 30 meters. The CDL is produced using satellite imagery from the Landsat 8 OLI/TIRS sensor and the Disaster Monitoring Constellation (DMC) DEIMOS-1 and UK2 sensors collected during the current growing season.<\/span><\/p> Some CDL states used additional satellite imagery and ancillary inputs to supplement and improve the classification. These additional sources can include the United States Geological Survey (USGS) National Elevation Dataset (NED) and the imperviousness and canopy data layers from the USGS National Land Cover Database 2011 (NLCD 2011).<\/span><\/p> Agricultural training and validation data are derived from the Farm Service Agency (FSA) Common Land Unit (CLU) Program. The most current version of the NLCD is used as non-agricultural training and validation data.<\/span><\/p> Please refer to the 'Supplemental_Information' Section of this metadata file for a complete list of all imagery, ancillary data, and training/validation data used to generate this state's CDL.<\/span><\/p> The strength and emphasis of the CDL is agricultural land cover. Please note that no farmer reported data are derivable from the Cropland Data Layer. <\/span><\/p><\/div><\/div>",
"extent": {
"xmin": -85.605166,
"ymin": 30.355644,
"xmax": -80.840711,
"ymax": 35.00081652308639,
"spatialReference": {
"wkid": 4326,
"latestWkid": 4326
}
},
"initialExtent": {
"xmin": -85.605166,
"ymin": 30.355644,
"xmax": -80.840711,
"ymax": 35.00081652308639,
"spatialReference": {
"wkid": 4326,
"latestWkid": 4326
}
},
"fullExtent": {
"xmin": -85.605166,
"ymin": 30.355644,
"xmax": -80.840711,
"ymax": 35.00081652308639,
"spatialReference": {
"wkid": 4326,
"latestWkid": 4326
}
},
"hasMultidimensions": false,
"pixelSizeX": 3.259084068677747E-4,
"pixelSizeY": 3.259084068677746E-4,
"datasetFormat": "FGDBR",
"uncompressedSize": 208349988,
"blockWidth": 128,
"blockHeight": 128,
"compressionType": "LZ77",
"bandNames": [
"Band_1"
],
"allowCopy": true,
"allowAnalysis": true,
"bandCount": 1,
"pixelType": "U8",
"minPixelSize": 0,
"maxPixelSize": 0,
"copyrightText": "United States Department of Agriculture (USDA), National Agricultural Statistics Service (NASS)",
"serviceDataType": "esriImageServiceDataTypeThematic",
"serviceSourceType": "esriImageServiceSourceTypeDataset",
"minValues": [
1
],
"maxValues": [
254
],
"meanValues": [
134.39891295654394
],
"stdvValues": [
48.79776632373552
],
"objectIdField": "",
"fields": [],
"capabilities": "Mensuration,Image,Metadata",
"defaultMosaicMethod": "Center",
"allowedMosaicMethods": "",
"sortField": "",
"sortValue": null,
"sortAscending": true,
"mosaicOperator": "First",
"defaultCompressionQuality": 75,
"defaultResamplingMethod": "Bilinear",
"maxImageHeight": 4100,
"maxImageWidth": 15000,
"allowRasterFunction": true,
"rasterFunctionInfos": [
{
"name": "None",
"description": "",
"help": ""
}
],
"rasterTypeInfos": [
{
"name": "Raster Dataset",
"description": "Supports all ArcGIS Raster Datasets",
"help": ""
}
],
"mensurationCapabilities": "Basic",
"hasHistograms": true,
"hasColormap": false,
"hasRasterAttributeTable": true,
"minScale": 0,
"maxScale": 0,
"exportTilesAllowed": false,
"supportsStatistics": false,
"supportsAdvancedQueries": false,
"editFieldsInfo": null,
"ownershipBasedAccessControlForRasters": null,
"allowComputeTiePoints": false,
"useStandardizedQueries": true,
"advancedQueryCapabilities": {
"useStandardizedQueries": true,
"supportsStatistics": false,
"supportsOrderBy": false,
"supportsDistinct": false,
"supportsPagination": false
},
"spatialReference": {
"wkid": 4326,
"latestWkid": 4326
}
}