View In:
ArcGIS JavaScript
ArcGIS Online Map Viewer
ArcGIS Earth
ArcMap
View Footprint In:
ArcGIS Online Map Viewer
Service Description: 10 Meter Digital Elevation Model (DEM) for the State of Georgia. The National Elevation Dataset (NED) is produced and distributed by the USGS. The NED is derived from diverse sources and processed to a common coordinate system and unit of vertical measure. NED data are in geographic coordinates (decimal degree units) and conform with the North American Datum of 1983. Elevation values are in meters, and referenced to the North American Vertical Datum of 1988 over the conterminous US. This source imagery is then mosaiced dynamically for this image service using Environmental Systems Research Institute's (ESRI) ArcGIS Image Server. Although these data have been processed successfully on a computer system at the Georgia GIS Data Clearinghouse, no warranty expressed or implied is made by Georgia GIS Data Clearinghouse regarding the utility of the data on any other system, nor shall the act of distribution constitute any such warranty.
Name: Elevation/DEM10
Description: 10 Meter Digital Elevation Model (DEM) for the State of Georgia. The National Elevation Dataset (NED) is produced and distributed by the USGS. The NED is derived from diverse sources and processed to a common coordinate system and unit of vertical measure. NED data are in geographic coordinates (decimal degree units) and conform with the North American Datum of 1983. Elevation values are in meters, and referenced to the North American Vertical Datum of 1988 over the conterminous US. This source imagery is then mosaiced dynamically for this image service using Environmental Systems Research Institute's (ESRI) ArcGIS Image Server. Although these data have been processed successfully on a computer system at the Georgia GIS Data Clearinghouse, no warranty expressed or implied is made by Georgia GIS Data Clearinghouse regarding the utility of the data on any other system, nor shall the act of distribution constitute any such warranty.
Single Fused Map Cache: false
Extent:
XMin: -86.0005555555776
YMin: 29.99944444444
XMax: -79.99944444444009
YMax: 35.00055555557312
Spatial Reference: 0
(0)
LatestVCSWkid(0)
Initial Extent:
XMin: -86.0005555555776
YMin: 29.99944444444
XMax: -79.99944444444009
YMax: 35.00055555557312
Spatial Reference: 0
(0)
LatestVCSWkid(0)
Full Extent:
XMin: -86.0005555555776
YMin: 29.99944444444
XMax: -79.99944444444009
YMax: 35.00055555557312
Spatial Reference: 0
(0)
LatestVCSWkid(0)
Pixel Size X: 9.259259259300004E-5
Pixel Size Y: 9.259259259300009E-5
Band Count: 1
Pixel Type: F32
RasterFunction Infos: {"rasterFunctionInfos": [{
"name": "None",
"description": "A No-Op Function.",
"help": ""
}]}
Mensuration Capabilities: None
Has Histograms: true
Has Colormap: false
Has Multi Dimensions : false
Rendering Rule:
Min Scale: 0
Max Scale: 0
Copyright Text: Georgia GIS Clearinghouse
Service Data Type: esriImageServiceDataTypeGeneric
Min Values: -0.8571286797523499
Max Values: 1535.002197265625
Mean Values: 127.12651897641071
Standard Deviation Values: 131.86752540180606
Object ID Field: OBJECTID
Fields:
-
OBJECTID
(
type: esriFieldTypeOID, alias: OBJECTID
)
-
Shape
(
type: esriFieldTypeGeometry, alias: Shape
)
-
Name
(
type: esriFieldTypeString, alias: Name, length: 200
)
-
MinPS
(
type: esriFieldTypeDouble, alias: MinPS
)
-
MaxPS
(
type: esriFieldTypeDouble, alias: MaxPS
)
-
LowPS
(
type: esriFieldTypeDouble, alias: LowPS
)
-
HighPS
(
type: esriFieldTypeDouble, alias: HighPS
)
-
Category
(
type: esriFieldTypeInteger, alias: Category
, Coded Values:
[0: Unknown]
, [1: Primary]
, [2: Overview]
, ...6 more...
)
-
Tag
(
type: esriFieldTypeString, alias: Tag, length: 100
)
-
GroupName
(
type: esriFieldTypeString, alias: GroupName, length: 100
)
-
ProductName
(
type: esriFieldTypeString, alias: ProductName, length: 100
)
-
CenterX
(
type: esriFieldTypeDouble, alias: CenterX
)
-
CenterY
(
type: esriFieldTypeDouble, alias: CenterY
)
-
ZOrder
(
type: esriFieldTypeInteger, alias: ZOrder
)
-
Shape_Length
(
type: esriFieldTypeDouble, alias: Shape_Length
)
-
Shape_Area
(
type: esriFieldTypeDouble, alias: Shape_Area
)
Default Mosaic Method: Northwest
Allowed Mosaic Methods: NorthWest,Center,LockRaster,ByAttribute,Nadir,Viewpoint,Seamline,None
SortField:
SortValue: null
Mosaic Operator: First
Default Compression Quality: 75
Default Resampling Method: Bilinear
Max Record Count: 1000
Max Image Height: 4100
Max Image Width: 15000
Max Download Image Count: 20
Max Mosaic Image Count: 20
Allow Raster Function: false
Allow Copy: true
Allow Analysis: true
Allow Compute TiePoints: false
Supports Statistics: true
Supports Advanced Queries: true
Use StandardizedQueries: true
Raster Type Infos:
Name: Raster Dataset
Description: Supports all ArcGIS Raster Datasets
Help:
Has Raster Attribute Table: false
Edit Fields Info: null
Ownership Based AccessControl For Rasters: null
Child Resources:
Info
Histograms
Statistics
Key Properties
Legend
Raster Function Infos
Supported Operations:
Export Image
Query
Identify
Compute Histograms
Compute Statistics Histograms
Get Samples
Compute Class Statistics
Query Boundary
Compute Pixel Location
Compute Angles
Validate
Project