View In:
ArcGIS JavaScript
ArcGIS Online Map Viewer
ArcGIS Earth
ArcMap
View Footprint In:
ArcGIS Online Map Viewer
Service Description: The National Land Cover Database products are created through a cooperative project conducted by the Multi-Resolution Land Characteristics (MRLC) Consortium. The MRLC Consortium is a partnership of federal agencies (www.mrlc.gov), consisting of the U.S. Geological Survey (USGS), the National Oceanic and Atmospheric Administration (NOAA), the U.S. Environmental Protection Agency (EPA), the U.S. Department of Agriculture (USDA), the U.S. Forest Service (USFS), the National Park Service (NPS), the U.S. Fish and Wildlife Service (FWS), the Bureau of Land Management (BLM) and the USDA Natural Resources Conservation Service (NRCS). The success of NLCD over nearly two decades is credited to the continuing collaborative spirit of the agencies that make up the MRLC. NLCD 2011 is the most up-to-date iteration of the National Land Cover Database, the definitive Landsat-based, 30-meter resolution land cover database for the Nation. The data in NLCD 2011 are completely integrated with NLCD 2001 (2011 Edition) and NLCD 2006 (2011 Edition). For NLCD 2011, there are 5 primary data products: 1) NLCD 2011 Land Cover; 2) NLCD 2006/2011 Land Cover Change Pixels labeled with the 2011 land cover class; 3) NLCD 2011 Percent Developed Imperviousness; 4) NLCD 2006/2011 Percent Developed Imperviousness Change Pixels; and 5) NLCD 2011 Tree Canopy Cover provided by an MRLC partner - the U.S.D.A. Forest Service Remote Sensing Applications Center. In addition, ancillary metadata includes the NLCD 2011 Path/Row Index vector file showing the footprint of Landsat scenes and change analysis pairs used to derive 2006/2011 spectral change. All Landsat scene acquisition dates are included in the attribute table. Also, as part of the NLCD 2011 project, NLCD 2001 and 2006 land cover and impervious data products have been revised and reissued (2011 Edition) to provide full compatibility with the new NLCD 2011 products. NLCD Tree Canopy Cover was created using MRLC mapping zones from NLCD 2001 (see Tree Canopy Cover metadata for additional detail). All other NLCD 2011 products were created on a path/row basis and mosaicked to create a seamless national product. Questions about the NLCD 2011 land cover product can be directed to the NLCD 2011 land cover mapping team at the USGS/EROS, Sioux Falls, SD (605) 594-6151 or mrlc@usgs.gov.
Name: LandUseCover/LandCover
Description: The National Land Cover Database products are created through a cooperative project conducted by the Multi-Resolution Land Characteristics (MRLC) Consortium. The MRLC Consortium is a partnership of federal agencies (www.mrlc.gov), consisting of the U.S. Geological Survey (USGS), the National Oceanic and Atmospheric Administration (NOAA), the U.S. Environmental Protection Agency (EPA), the U.S. Department of Agriculture (USDA), the U.S. Forest Service (USFS), the National Park Service (NPS), the U.S. Fish and Wildlife Service (FWS), the Bureau of Land Management (BLM) and the USDA Natural Resources Conservation Service (NRCS). The success of NLCD over nearly two decades is credited to the continuing collaborative spirit of the agencies that make up the MRLC. NLCD 2011 is the most up-to-date iteration of the National Land Cover Database, the definitive Landsat-based, 30-meter resolution land cover database for the Nation. The data in NLCD 2011 are completely integrated with NLCD 2001 (2011 Edition) and NLCD 2006 (2011 Edition). For NLCD 2011, there are 5 primary data products: 1) NLCD 2011 Land Cover; 2) NLCD 2006/2011 Land Cover Change Pixels labeled with the 2011 land cover class; 3) NLCD 2011 Percent Developed Imperviousness; 4) NLCD 2006/2011 Percent Developed Imperviousness Change Pixels; and 5) NLCD 2011 Tree Canopy Cover provided by an MRLC partner - the U.S.D.A. Forest Service Remote Sensing Applications Center. In addition, ancillary metadata includes the NLCD 2011 Path/Row Index vector file showing the footprint of Landsat scenes and change analysis pairs used to derive 2006/2011 spectral change. All Landsat scene acquisition dates are included in the attribute table. Also, as part of the NLCD 2011 project, NLCD 2001 and 2006 land cover and impervious data products have been revised and reissued (2011 Edition) to provide full compatibility with the new NLCD 2011 products. NLCD Tree Canopy Cover was created using MRLC mapping zones from NLCD 2001 (see Tree Canopy Cover metadata for additional detail). All other NLCD 2011 products were created on a path/row basis and mosaicked to create a seamless national product. Questions about the NLCD 2011 land cover product can be directed to the NLCD 2011 land cover mapping team at the USGS/EROS, Sioux Falls, SD (605) 594-6151 or mrlc@usgs.gov.
Single Fused Map Cache: false
Extent:
XMin: -86.41188701343606
YMin: 30.124247892842114
XMax: -80.30719345975335
YMax: 35.33552017814777
Spatial Reference: 4326
(4326)
Initial Extent:
XMin: -86.41188701343606
YMin: 30.124247892842114
XMax: -80.30719345975335
YMax: 35.33552017814777
Spatial Reference: 4326
(4326)
Full Extent:
XMin: -86.41188701343606
YMin: 30.124247892842114
XMax: -80.30719345975335
YMax: 35.33552017814777
Spatial Reference: 4326
(4326)
Pixel Size X: 3.0152590900339363E-4
Pixel Size Y: 3.0152590900339374E-4
Band Count: 1
Pixel Type: S8
RasterFunction Infos: {"rasterFunctionInfos": [{
"name": "None",
"description": "",
"help": ""
}]}
Mensuration Capabilities: Basic
Has Histograms: true
Has Colormap: false
Has Multi Dimensions : false
Rendering Rule:
Min Scale: 0
Max Scale: 0
Copyright Text: U.S. Geological Survey
Service Data Type: esriImageServiceDataTypeGeneric
Min Values: 11
Max Values: 95
Mean Values: 56.252838857362
Standard Deviation Values: 23.735984941706775
Object ID Field:
Fields:
None
Default Mosaic Method: Center
Allowed Mosaic Methods:
SortField:
SortValue: null
Mosaic Operator: First
Default Compression Quality: 75
Default Resampling Method: Bilinear
Max Record Count: null
Max Image Height: 4100
Max Image Width: 15000
Max Download Image Count: null
Max Mosaic Image Count: null
Allow Raster Function: true
Allow Copy: true
Allow Analysis: true
Allow Compute TiePoints: false
Supports Statistics: false
Supports Advanced Queries: false
Use StandardizedQueries: true
Raster Type Infos:
Name: Raster Dataset
Description: Supports all ArcGIS Raster Datasets
Help:
Has Raster Attribute Table: true
Edit Fields Info: null
Ownership Based AccessControl For Rasters: null
Child Resources:
Info
Raster Attribute Table
Histograms
Statistics
Key Properties
Legend
Raster Function Infos
Supported Operations:
Export Image
Identify
Measure
Compute Histograms
Compute Statistics Histograms
Get Samples
Compute Class Statistics
Query Boundary
Compute Pixel Location
Compute Angles
Validate
Project